BEGIN:VCALENDAR
VERSION:2.0
PRODID:-//Redlands Hash House Harriers - ECPv5.0.2//NONSGML v1.0//EN
CALSCALE:GREGORIAN
METHOD:PUBLISH
X-WR-CALNAME:Redlands Hash House Harriers
X-ORIGINAL-URL:http://redlandshashhouseharriers.asn.au/wp
X-WR-CALDESC:Events for Redlands Hash House Harriers
BEGIN:VTIMEZONE
TZID:Europe/Paris
BEGIN:DAYLIGHT
TZOFFSETFROM:+0100
TZOFFSETTO:+0200
TZNAME:CEST
DTSTART:20200329T010000
END:DAYLIGHT
BEGIN:STANDARD
TZOFFSETFROM:+0200
TZOFFSETTO:+0100
TZNAME:CET
DTSTART:20201025T010000
END:STANDARD
END:VTIMEZONE
BEGIN:VEVENT
DTSTART;TZID=Europe/Paris:20200323T183000
DTEND;TZID=Europe/Paris:20200323T183000
DTSTAMP:20200228T212117
CREATED:20200225T084328Z
LAST-MODIFIED:20200225T084328Z
UID:1243-1584988200-1584988200@redlandshashhouseharriers.asn.au
SUMMARY:Cleveland Point - Double Dick
DESCRIPTION:Double Dick is hosting from the light house park at Cleveland Point. I think this is going to be one of those no brainier runs of figuring out where it’s going as he doesn’t have too many options. \nBe there 6:15pm for 6:30pm start. \nOn On! \n
URL:http://redlandshashhouseharriers.asn.au/wp/event/cleveland-point-double-dick/
ATTACH;FMTTYPE=image/jpeg:http://redlandshashhouseharriers.asn.au/wp/wp-content/uploads/2020/02/ClevelandPoint.jpg
END:VEVENT
END:VCALENDAR