BEGIN:VCALENDAR
VERSION:2.0
PRODID:-//Redlands Hash House Harriers - ECPv5.0.2//NONSGML v1.0//EN
CALSCALE:GREGORIAN
METHOD:PUBLISH
X-WR-CALNAME:Redlands Hash House Harriers
X-ORIGINAL-URL:http://redlandshashhouseharriers.asn.au/wp
X-WR-CALDESC:Events for Redlands Hash House Harriers
BEGIN:VTIMEZONE
TZID:Europe/Paris
BEGIN:DAYLIGHT
TZOFFSETFROM:+0100
TZOFFSETTO:+0200
TZNAME:CEST
DTSTART:20200329T010000
END:DAYLIGHT
BEGIN:STANDARD
TZOFFSETFROM:+0200
TZOFFSETTO:+0100
TZNAME:CET
DTSTART:20201025T010000
END:STANDARD
END:VTIMEZONE
BEGIN:VEVENT
DTSTART;TZID=Europe/Paris:20200316T183000
DTEND;TZID=Europe/Paris:20200316T183000
DTSTAMP:20200228T212057
CREATED:20200225T084237Z
LAST-MODIFIED:20200225T084926Z
UID:1240-1584383400-1584383400@redlandshashhouseharriers.asn.au
SUMMARY:14 Rankin Street\, Wellington Point - Shits Who & Top Dog
DESCRIPTION:Shits Who & Top Dog are hosting from 14 Rankin Street\, Wellington Point. Bring your rain coat\, as I am sure the RA will fail at his dutys and get an icing. \nThis is a St Patrick’s Day run so wear your best green gear and bring your luck of the Irish.  \nBe there 6:15pm for 6:30pm start. \nOn On! \n
URL:http://redlandshashhouseharriers.asn.au/wp/event/14-rankin-street-wellington-point-shits-who-top-dog/
ATTACH;FMTTYPE=image/jpeg:http://redlandshashhouseharriers.asn.au/wp/wp-content/uploads/2020/02/14Rankin-1024x400-1024x400.jpg
END:VEVENT
END:VCALENDAR