BEGIN:VCALENDAR
VERSION:2.0
PRODID:-//Redlands Hash House Harriers - ECPv5.0.2//NONSGML v1.0//EN
CALSCALE:GREGORIAN
METHOD:PUBLISH
X-WR-CALNAME:Redlands Hash House Harriers
X-ORIGINAL-URL:http://redlandshashhouseharriers.asn.au/wp
X-WR-CALDESC:Events for Redlands Hash House Harriers
BEGIN:VTIMEZONE
TZID:Europe/Paris
BEGIN:DAYLIGHT
TZOFFSETFROM:+0100
TZOFFSETTO:+0200
TZNAME:CEST
DTSTART:20200329T010000
END:DAYLIGHT
BEGIN:STANDARD
TZOFFSETFROM:+0200
TZOFFSETTO:+0100
TZNAME:CET
DTSTART:20201025T010000
END:STANDARD
END:VTIMEZONE
BEGIN:VEVENT
DTSTART;TZID=Europe/Paris:20200224T183000
DTEND;TZID=Europe/Paris:20200224T183000
DTSTAMP:20200228T210322
CREATED:20200113T125152Z
LAST-MODIFIED:20200113T125152Z
UID:1229-1582569000-1582569000@redlandshashhouseharriers.asn.au
SUMMARY:6 Miles Crescent\, Manly West - G-Spot & Goes Down
DESCRIPTION:G-Spot & Goes Down are hosting G-Spots birthday celebrations from 6 Miles Crescent\, Manly West.  Yes this is not in the Redlands (For shame) but it’s G-Spots birthday\, so please dress up in your best celebrative gear. \nBe there 6:15pm for 6:30pm start. \nOn On! \n
URL:http://redlandshashhouseharriers.asn.au/wp/event/6-miles-crescent-manly-west-g-spot-goes-down/
ATTACH;FMTTYPE=image/jpeg:http://redlandshashhouseharriers.asn.au/wp/wp-content/uploads/2020/01/HappyBirthday.jpg
END:VEVENT
END:VCALENDAR