BEGIN:VCALENDAR
VERSION:2.0
PRODID:-//Redlands Hash House Harriers - ECPv5.0.2//NONSGML v1.0//EN
CALSCALE:GREGORIAN
METHOD:PUBLISH
X-WR-CALNAME:Redlands Hash House Harriers
X-ORIGINAL-URL:http://redlandshashhouseharriers.asn.au/wp
X-WR-CALDESC:Events for Redlands Hash House Harriers
BEGIN:VTIMEZONE
TZID:Europe/Paris
BEGIN:DAYLIGHT
TZOFFSETFROM:+0100
TZOFFSETTO:+0200
TZNAME:CEST
DTSTART:20200329T010000
END:DAYLIGHT
BEGIN:STANDARD
TZOFFSETFROM:+0200
TZOFFSETTO:+0100
TZNAME:CET
DTSTART:20201025T010000
END:STANDARD
END:VTIMEZONE
BEGIN:VEVENT
DTSTART;TZID=Europe/Paris:20200210T183000
DTEND;TZID=Europe/Paris:20200210T183000
DTSTAMP:20200228T210031
CREATED:20200113T124943Z
LAST-MODIFIED:20200113T124943Z
UID:1223-1581359400-1581359400@redlandshashhouseharriers.asn.au
SUMMARY:80 Passage St\, Cleveland - Hardnut
DESCRIPTION:Hardnut (and Soft Shells) run is from 80 Passage St\, Cleveland.  I’m sure it will be kransky’s for dinner with a drink stop at Oister Point for sure! \nBe there 6:15pm for 6:30pm start. \nOn On! \n
URL:http://redlandshashhouseharriers.asn.au/wp/event/80-passage-st-cleveland-hardnut/
ATTACH;FMTTYPE=image/jpeg:http://redlandshashhouseharriers.asn.au/wp/wp-content/uploads/2020/01/80PassageStCleveland.jpg
END:VEVENT
END:VCALENDAR