BEGIN:VCALENDAR
VERSION:2.0
PRODID:-//Redlands Hash House Harriers - ECPv5.0.2//NONSGML v1.0//EN
CALSCALE:GREGORIAN
METHOD:PUBLISH
X-WR-CALNAME:Redlands Hash House Harriers
X-ORIGINAL-URL:http://redlandshashhouseharriers.asn.au/wp
X-WR-CALDESC:Events for Redlands Hash House Harriers
BEGIN:VTIMEZONE
TZID:Europe/Paris
BEGIN:DAYLIGHT
TZOFFSETFROM:+0100
TZOFFSETTO:+0200
TZNAME:CEST
DTSTART:20200329T010000
END:DAYLIGHT
BEGIN:STANDARD
TZOFFSETFROM:+0200
TZOFFSETTO:+0100
TZNAME:CET
DTSTART:20201025T010000
END:STANDARD
END:VTIMEZONE
BEGIN:VEVENT
DTSTART;TZID=Europe/Paris:20200127T183000
DTEND;TZID=Europe/Paris:20200127T183000
DTSTAMP:20200228T205750
CREATED:20200113T124757Z
LAST-MODIFIED:20200113T124757Z
UID:1217-1580149800-1580149800@redlandshashhouseharriers.asn.au
SUMMARY:5pm Start - Australia Day run - 5 Humber Place\, Alexandra Hills
DESCRIPTION:Hashy Australia Day.  We are starting at 5PM\, you can rock up at 4:30pm for pre-drinks and socializing but run will begin at 5pm.  Dress in your best Aussie getup and celebrate Australia in the best way possible. \nRun starts at 5pm.  Don’t be late. \nOn On! \n
URL:http://redlandshashhouseharriers.asn.au/wp/event/5pm-start-australia-day-run-5-humber-place-alexandra-hills/
ATTACH;FMTTYPE=image/jpeg:http://redlandshashhouseharriers.asn.au/wp/wp-content/uploads/2020/01/5HumberPlAlexHills.jpg
END:VEVENT
END:VCALENDAR