BEGIN:VCALENDAR
VERSION:2.0
PRODID:-//Redlands Hash House Harriers - ECPv5.0.2//NONSGML v1.0//EN
CALSCALE:GREGORIAN
METHOD:PUBLISH
X-WR-CALNAME:Redlands Hash House Harriers
X-ORIGINAL-URL:http://redlandshashhouseharriers.asn.au/wp
X-WR-CALDESC:Events for Redlands Hash House Harriers
BEGIN:VTIMEZONE
TZID:Europe/Paris
BEGIN:DAYLIGHT
TZOFFSETFROM:+0100
TZOFFSETTO:+0200
TZNAME:CEST
DTSTART:20200329T010000
END:DAYLIGHT
BEGIN:STANDARD
TZOFFSETFROM:+0200
TZOFFSETTO:+0100
TZNAME:CET
DTSTART:20201025T010000
END:STANDARD
END:VTIMEZONE
BEGIN:VEVENT
DTSTART;TZID=Europe/Paris:20200120T183000
DTEND;TZID=Europe/Paris:20200120T183000
DTSTAMP:20200228T211944
CREATED:20200113T124706Z
LAST-MODIFIED:20200113T124706Z
UID:1214-1579545000-1579545000@redlandshashhouseharriers.asn.au
SUMMARY:Montgomery Drive Park\, Wellington Point - Climax
DESCRIPTION:Climax is setting her run from Montgomery Drive Park\, Wellington Point.  If you GPS to 42 Montgomery Drive\, Wellington Point\, the entrance to the park is on the round about in front of that address.  There isn’t much parking inside the park\, so you’ll need to park on the street. \nBe there 6:15pm for 6:30pm start. \nOn On! \n
URL:http://redlandshashhouseharriers.asn.au/wp/event/montgomery-drive-park-wellington-point-climax/
ATTACH;FMTTYPE=image/jpeg:http://redlandshashhouseharriers.asn.au/wp/wp-content/uploads/2020/01/MontgomeryDrPark.jpg
END:VEVENT
END:VCALENDAR