BEGIN:VCALENDAR
VERSION:2.0
PRODID:-//Redlands Hash House Harriers - ECPv5.0.2//NONSGML v1.0//EN
CALSCALE:GREGORIAN
METHOD:PUBLISH
X-WR-CALNAME:Redlands Hash House Harriers
X-ORIGINAL-URL:http://redlandshashhouseharriers.asn.au/wp
X-WR-CALDESC:Events for Redlands Hash House Harriers
BEGIN:VTIMEZONE
TZID:Europe/Paris
BEGIN:DAYLIGHT
TZOFFSETFROM:+0100
TZOFFSETTO:+0200
TZNAME:CEST
DTSTART:20200329T010000
END:DAYLIGHT
BEGIN:STANDARD
TZOFFSETFROM:+0200
TZOFFSETTO:+0100
TZNAME:CET
DTSTART:20201025T010000
END:STANDARD
END:VTIMEZONE
BEGIN:VEVENT
DTSTART;TZID=Europe/Paris:20200113T183000
DTEND;TZID=Europe/Paris:20200113T183000
DTSTAMP:20200228T211923
CREATED:20191217T012436Z
LAST-MODIFIED:20191217T012436Z
UID:1209-1578940200-1578940200@redlandshashhouseharriers.asn.au
SUMMARY:11 Wills Lane\, Capalaba - Lady Grey & Under Pressure
DESCRIPTION:Lady Grey & Under Pressure run is from 11 Wills Lane\, Capalaba. \nThis is Under Pressures 60th birthday. Lady Grey has deemed it a mexican night so wear your best mexican if you can find one. \nAll welcome. Be there 6:15pm for a 6:30pm run start. On On! \n
URL:http://redlandshashhouseharriers.asn.au/wp/event/11-wills-lane-capalaba-lady-grey-under-pressure/
ATTACH;FMTTYPE=image/jpeg:http://redlandshashhouseharriers.asn.au/wp/wp-content/uploads/2019/12/11WillsLn.jpg
END:VEVENT
END:VCALENDAR