BEGIN:VCALENDAR
VERSION:2.0
PRODID:-//Redlands Hash House Harriers - ECPv5.0.2//NONSGML v1.0//EN
CALSCALE:GREGORIAN
METHOD:PUBLISH
X-WR-CALNAME:Redlands Hash House Harriers
X-ORIGINAL-URL:http://redlandshashhouseharriers.asn.au/wp
X-WR-CALDESC:Events for Redlands Hash House Harriers
BEGIN:VTIMEZONE
TZID:Europe/Paris
BEGIN:DAYLIGHT
TZOFFSETFROM:+0100
TZOFFSETTO:+0200
TZNAME:CEST
DTSTART:20200329T010000
END:DAYLIGHT
BEGIN:STANDARD
TZOFFSETFROM:+0200
TZOFFSETTO:+0100
TZNAME:CET
DTSTART:20201025T010000
END:STANDARD
END:VTIMEZONE
BEGIN:VEVENT
DTSTART;TZID=Europe/Paris:20200106T183000
DTEND;TZID=Europe/Paris:20200106T183000
DTSTAMP:20200228T211903
CREATED:20191217T012352Z
LAST-MODIFIED:20191217T012352Z
UID:1206-1578335400-1578335400@redlandshashhouseharriers.asn.au
SUMMARY:3 Kurrajong St\, Capalaba - Parasite & Monarchist
DESCRIPTION:First run for 2020! Parasite & Monarchist’s run is from 3 Kurrajong St\, Capalaba. \nAll welcome. Be there 6:15pm for a 6:30pm run start. On On! \n
URL:http://redlandshashhouseharriers.asn.au/wp/event/3-kurrajong-st-capalaba-parasite-monarchist/
ATTACH;FMTTYPE=image/jpeg:http://redlandshashhouseharriers.asn.au/wp/wp-content/uploads/2019/12/3KurrajongSt-Capalaba.jpg
END:VEVENT
END:VCALENDAR