BEGIN:VCALENDAR
VERSION:2.0
PRODID:-//Redlands Hash House Harriers - ECPv5.0.2//NONSGML v1.0//EN
CALSCALE:GREGORIAN
METHOD:PUBLISH
X-WR-CALNAME:Redlands Hash House Harriers
X-ORIGINAL-URL:http://redlandshashhouseharriers.asn.au/wp
X-WR-CALDESC:Events for Redlands Hash House Harriers
BEGIN:VTIMEZONE
TZID:Europe/Paris
BEGIN:DAYLIGHT
TZOFFSETFROM:+0100
TZOFFSETTO:+0200
TZNAME:CEST
DTSTART:20200329T010000
END:DAYLIGHT
BEGIN:STANDARD
TZOFFSETFROM:+0200
TZOFFSETTO:+0100
TZNAME:CET
DTSTART:20201025T010000
END:STANDARD
END:VTIMEZONE
BEGIN:VEVENT
DTSTART;TZID=Europe/Paris:20200406T183000
DTEND;TZID=Europe/Paris:20200406T183000
DTSTAMP:20200228T211705
CREATED:20200225T084452Z
LAST-MODIFIED:20200225T084637Z
UID:1249-1586197800-1586197800@redlandshashhouseharriers.asn.au
SUMMARY:6 Drevesen Ave\, Cleveland - GafferTape & Bottom Painter
DESCRIPTION:GafferTape & Bottom Painter are up to there old tricks\, and doing there run from 6 Drevesen Ave\, Cleveland. There isn’t much to say about a Bottom Painter run\, other than expect the worst beer he can find at the drink stop. \nBe there 6:15pm for 6:30pm start. \nOn On! \n
URL:http://redlandshashhouseharriers.asn.au/wp/event/6-drevesen-ave-cleveland-gaffertape-bottom-painter/
ATTACH;FMTTYPE=image/jpeg:http://redlandshashhouseharriers.asn.au/wp/wp-content/uploads/2020/02/6DrevesenCleveland-1024x500.jpg
END:VEVENT
END:VCALENDAR